BEGIN:VCALENDAR
VERSION:2.0
PRODID:-//Squarespace Inc/Squarespace 6//v6//EN
BEGIN:VEVENT
UID:5c60afe1f4e1fc3c525e9337@squarespace.com
DTSTAMP:20190210T231900Z
DTSTART:20190223T233000Z
DTEND:20190224T013000Z
SUMMARY:Six Nations Wales v England
END:VEVENT
END:VCALENDAR
