BEGIN:VCALENDAR
VERSION:2.0
PRODID:-//Squarespace Inc/Squarespace 6//v6//EN
BEGIN:VEVENT
UID:5c58ecf2e79c70b18f363adc@squarespace.com
DTSTAMP:20190205T020007Z
DTSTART:20190210T013000Z
DTEND:20190210T033000Z
SUMMARY:Adam McGrath Sunday Session
END:VEVENT
END:VCALENDAR
