BEGIN:VCALENDAR
VERSION:2.0
PRODID:-//Squarespace Inc/Squarespace 6//v6//EN
BEGIN:VEVENT
UID:5c58e39171c10b4c84290392@squarespace.com
DTSTAMP:20190205T015336Z
DTSTART:20190208T060000Z
DTEND:20190208T090000Z
SUMMARY:Girl From Mars
END:VEVENT
END:VCALENDAR
