BEGIN:VCALENDAR
VERSION:2.0
PRODID:-//Squarespace Inc/Squarespace 6//v6//EN
BEGIN:VEVENT
UID:5c58ecad652deafb6bd855b9@squarespace.com
DTSTAMP:20190205T015910Z
DTSTART:20190209T070000Z
DTEND:20190209T100000Z
SUMMARY:Al Park
END:VEVENT
END:VCALENDAR
