BEGIN:VCALENDAR
VERSION:2.0
PRODID:-//Squarespace Inc/Squarespace 6//v6//EN
BEGIN:VEVENT
UID:55f258b9e4b0c5531645138c@squarespace.com
DTSTAMP:20150921T220051Z
DTSTART:20151004T210000Z
DTEND:20151004T230000Z
SUMMARY:Argentina v Tonga Replay
END:VEVENT
END:VCALENDAR
