BEGIN:VCALENDAR
VERSION:2.0
PRODID:-//Squarespace Inc/Squarespace 6//v6//EN
BEGIN:VEVENT
UID:55f2592ce4b0f58c7270ddd2@squarespace.com
DTSTAMP:20150921T215623Z
DTSTART:20151006T210000Z
DTEND:20151006T230000Z
SUMMARY:Canada v Romania Replay
END:VEVENT
END:VCALENDAR
