BEGIN:VCALENDAR
VERSION:2.0
PRODID:-//Squarespace Inc/Squarespace 6//v6//EN
BEGIN:VEVENT
UID:55f2596ce4b0dbacd21e749b@squarespace.com
DTSTAMP:20150921T215232Z
DTSTART:20151006T190000Z
DTEND:20151006T210000Z
SUMMARY:*LIVE* Fiji v Uruguay
END:VEVENT
END:VCALENDAR
