BEGIN:VCALENDAR
VERSION:2.0
PRODID:-//Squarespace Inc/Squarespace 6//v6//EN
BEGIN:VEVENT
UID:55f259fbe4b0c0afc4505ce2@squarespace.com
DTSTAMP:20150921T215254Z
DTSTART:20151007T190000Z
DTEND:20151007T210000Z
SUMMARY:*LIVE* Namibia v Georgia
END:VEVENT
END:VCALENDAR
